BEGIN:VCALENDAR
VERSION:2.0
PRODID:-//Embodied Beings - ECPv6.15.20//NONSGML v1.0//EN
CALSCALE:GREGORIAN
METHOD:PUBLISH
X-WR-CALNAME:Embodied Beings
X-ORIGINAL-URL:https://embodied-beings.com
X-WR-CALDESC:Events for Embodied Beings
REFRESH-INTERVAL;VALUE=DURATION:PT1H
X-Robots-Tag:noindex
X-PUBLISHED-TTL:PT1H
BEGIN:VTIMEZONE
TZID:Europe/London
BEGIN:DAYLIGHT
TZOFFSETFROM:+0000
TZOFFSETTO:+0100
TZNAME:BST
DTSTART:20240331T010000
END:DAYLIGHT
BEGIN:STANDARD
TZOFFSETFROM:+0100
TZOFFSETTO:+0000
TZNAME:GMT
DTSTART:20241027T010000
END:STANDARD
BEGIN:DAYLIGHT
TZOFFSETFROM:+0000
TZOFFSETTO:+0100
TZNAME:BST
DTSTART:20250330T010000
END:DAYLIGHT
BEGIN:STANDARD
TZOFFSETFROM:+0100
TZOFFSETTO:+0000
TZNAME:GMT
DTSTART:20251026T010000
END:STANDARD
BEGIN:DAYLIGHT
TZOFFSETFROM:+0000
TZOFFSETTO:+0100
TZNAME:BST
DTSTART:20260329T010000
END:DAYLIGHT
BEGIN:STANDARD
TZOFFSETFROM:+0100
TZOFFSETTO:+0000
TZNAME:GMT
DTSTART:20261025T010000
END:STANDARD
END:VTIMEZONE
BEGIN:VEVENT
DTSTART;TZID=Europe/London:20250614T100000
DTEND;TZID=Europe/London:20250614T130000
DTSTAMP:20260425T180851
CREATED:20250325T140335Z
LAST-MODIFIED:20250603T081452Z
UID:23468-1749895200-1749906000@embodied-beings.com
SUMMARY:Discover New Solutions to Your Persistent Challenges
DESCRIPTION:Do you have persistent challenges in your personal life\, relationships\, or work that just won’t resolve? \nOur Monthly Constellation Circle provide a unique approach to address issues that traditional methods can’t solve. Join us to gain new insights with the support of a caring community. \nWhat is Constellation Work? \nConstellation is a solution-focused approach that reveals hidden patterns affecting your life. \nBy spatially mapping the elements of your situation\, we make visible what’s been invisible – allowing new solutions to emerge naturally. \nInstead of just talking about problems\, we experience them differently\, exploring the implicit knowledge that your system holds rather than just what’s on the surface. \nWho is this for? \n\nAnyone experiencing recurring patterns they can’t break\nPeople facing relationship challenges that conventional approaches haven’t resolved\nIndividuals seeking deeper insight into personal\, family\, or work dynamics\nHealth and money issues\nThose curious about systemic approaches to problem-solving\nBoth newcomers and experienced participants welcome\n\nWhat you’ll experience \n\nNew Perspective: See your situation from outside yourself\nHidden Connections (intergenerational): Discover influences you weren’t aware of\nEmotional Shift: Feel differently about longstanding issues\nForward Movement: Find pathways that weren’t previously visible\nCommunity Support: Work through challenges with others who care\n\nHow it works \n\nAn experienced facilitator guides the entire process\nWe select 2-3 issues to work with during each session\nPeople volunteer to represent elements of the issue being explored\nThe representatives follow their intuitive sense of the system\nThe process reveals hidden dynamics and potential resolutions\nWe reflect on insights and integration\n\nNote: You are not guaranteed to have your specific issue worked on when you attend\, but everyone benefits from the work processed\, whether as an issue holder or representative. \nWhat others have experienced \n“I’d been stuck in the same career pattern for years. The constellation showed me exactly how I was recreating my father’s story without realizing it. One session gave me more insight than years of traditional therapy.” —Sahar\, 41 \n“My chronic health issues had doctors stumped. Through constellation work\, I saw how my body was carrying unresolved family trauma. Since working with this awareness\, my symptoms have decreased dramatically for the first time in a decade.” —Elena\, 36 \n“The relationship constellation revealed why my partnerships always followed the same painful pattern. Seeing it mapped out in space was like finally getting the missing piece of a puzzle. I’m now in the healthiest relationship of my life.” —David\, 32 \n“I came as a representative with no expectations and was amazed by what I experienced. Not only did I help someone else’s process\, but I gained profound insights into my own family dynamics just by participating.” —Sarah\, 45 \nJoin our next circle \nDate: 14/06/2025\nTime: 10:00 AM – 1:00 PM\nLocation: Online\nInvestment: Issue Holder: £55\, Representative: £35 \nWhen registering\, please indicate: \n\nIf you wish to bring an issue or attend as a representative\nIf bringing up an issue\, a brief description of your concern\n\nLimited to 8 participants per session – early registration recommended \nFacilitated by Amel Murphy\, a certified constellation practitioner with over 20 years of experience in group and individual process facilitation \n\n \n 
URL:https://embodied-beings.com/event/discover-new-solutions-to-your-persistent-challenges-2/
LOCATION:Online
CATEGORIES:Circle,constellation
ATTACH;FMTTYPE=image/jpeg:https://embodied-beings.com/wp-content/uploads/2025/03/1fbfc8272849552e6a6cb40afc14.jpeg
ORGANIZER;CN="Amel Murphy":MAILTO:info@embodied-beings.com
END:VEVENT
BEGIN:VEVENT
DTSTART;TZID=Europe/London:20250510T100000
DTEND;TZID=Europe/London:20250510T130000
DTSTAMP:20260425T180851
CREATED:20250325T140225Z
LAST-MODIFIED:20250429T071502Z
UID:23466-1746871200-1746882000@embodied-beings.com
SUMMARY:Discover New Solutions to Your Persistent Challenges
DESCRIPTION:Do you have persistent challenges in your personal life\, relationships\, or work that just won’t resolve? \nOur Monthly Constellation Circle provide a unique approach to address issues that traditional methods can’t solve. Join us to gain new insights with the support of a caring community. \nWhat is Constellation Work? \nConstellation is a solution-focused approach that reveals hidden patterns affecting your life. \nBy spatially mapping the elements of your situation\, we make visible what’s been invisible – allowing new solutions to emerge naturally. \nInstead of just talking about problems\, we experience them differently\, exploring the implicit knowledge that your system holds rather than just what’s on the surface. \nWho is this for? \n\nAnyone experiencing recurring patterns they can’t break\nPeople facing relationship challenges that conventional approaches haven’t resolved\nIndividuals seeking deeper insight into personal\, family\, or work dynamics\nHealth and money issues\nThose curious about systemic approaches to problem-solving\nBoth newcomers and experienced participants welcome\n\nWhat you’ll experience \n\nNew Perspective: See your situation from outside yourself\nHidden Connections (intergenerational): Discover influences you weren’t aware of\nEmotional Shift: Feel differently about longstanding issues\nForward Movement: Find pathways that weren’t previously visible\nCommunity Support: Work through challenges with others who care\n\nHow it works \n\nAn experienced facilitator guides the entire process\nWe select 2-3 issues to work with during each session\nPeople volunteer to represent elements of the issue being explored\nThe representatives follow their intuitive sense of the system\nThe process reveals hidden dynamics and potential resolutions\nWe reflect on insights and integration\n\nNote: You are not guaranteed to have your specific issue worked on when you attend\, but everyone benefits from the work processed\, whether as an issue holder or representative. \nWhat others have experienced \n“I’d been stuck in the same career pattern for years. The constellation showed me exactly how I was recreating my father’s story without realizing it. One session gave me more insight than years of traditional therapy.” —Sahar\, 41 \n“My chronic health issues had doctors stumped. Through constellation work\, I saw how my body was carrying unresolved family trauma. Since working with this awareness\, my symptoms have decreased dramatically for the first time in a decade.” —Elena\, 36 \n“The relationship constellation revealed why my partnerships always followed the same painful pattern. Seeing it mapped out in space was like finally getting the missing piece of a puzzle. I’m now in the healthiest relationship of my life.” —David\, 32 \n“I came as a representative with no expectations and was amazed by what I experienced. Not only did I help someone else’s process\, but I gained profound insights into my own family dynamics just by participating.” —Sarah\, 45 \nJoin our next circle \nDate: Last Saturday of each month\nTime: 10:00 AM – 1:00 PM\nLocation: Online\nInvestment: Issue Holder: £55\, Representative: £35 \nWhen registering\, please indicate: \n\nIf you wish to bring an issue or attend as a representative\nIf bringing up an issue\, a brief description of your concern\n\nLimited to 8 participants per session – early registration recommended \nFacilitated by Amel Murphy\, a certified constellation practitioner with over 20 years of experience in group and individual process facilitation \n\n \n 
URL:https://embodied-beings.com/event/discover-new-solutions-to-your-persistent-challenges/
LOCATION:Online
CATEGORIES:Circle,constellation
ATTACH;FMTTYPE=image/jpeg:https://embodied-beings.com/wp-content/uploads/2025/03/1fbfc8272849552e6a6cb40afc14.jpeg
ORGANIZER;CN="Amel Murphy":MAILTO:info@embodied-beings.com
END:VEVENT
BEGIN:VEVENT
DTSTART;TZID=Europe/London:20250412T100000
DTEND;TZID=Europe/London:20250412T130000
DTSTAMP:20260425T180851
CREATED:20241023T092456Z
LAST-MODIFIED:20250409T061602Z
UID:23281-1744452000-1744462800@embodied-beings.com
SUMMARY:Discover New Solutions to Your Persistent Challenges
DESCRIPTION:Do you have persistent challenges in your personal life\, relationships\, or work that just won’t resolve? \nOur Monthly Constellation Circle provide a unique approach to address issues that traditional methods can’t solve. Join us to gain new insights with the support of a caring community. \nWhat is Constellation Work? \nConstellation is a solution-focused approach that reveals hidden patterns affecting your life. \nBy spatially mapping the elements of your situation\, we make visible what’s been invisible – allowing new solutions to emerge naturally. \nInstead of just talking about problems\, we experience them differently\, exploring the implicit knowledge that your system holds rather than just what’s on the surface. \nWho is this for? \n\nAnyone experiencing recurring patterns they can’t break\nPeople facing relationship challenges that conventional approaches haven’t resolved\nIndividuals seeking deeper insight into personal\, family\, or work dynamics\nHealth and money issues\nThose curious about systemic approaches to problem-solving\nBoth newcomers and experienced participants welcome\n\nWhat you’ll experience \n\nNew Perspective: See your situation from outside yourself\nHidden Connections (intergenerational): Discover influences you weren’t aware of\nEmotional Shift: Feel differently about longstanding issues\nForward Movement: Find pathways that weren’t previously visible\nCommunity Support: Work through challenges with others who care\n\nHow it works \n\nAn experienced facilitator guides the entire process\nWe select 2-3 issues to work with during each session\nPeople volunteer to represent elements of the issue being explored\nThe representatives follow their intuitive sense of the system\nThe process reveals hidden dynamics and potential resolutions\nWe reflect on insights and integration\n\nNote: You are not guaranteed to have your specific issue worked on when you attend\, but everyone benefits from the work processed\, whether as an issue holder or representative. \nWhat others have experienced \n“I’d been stuck in the same career pattern for years. The constellation showed me exactly how I was recreating my father’s story without realizing it. One session gave me more insight than years of traditional therapy.” —Sahar\, 41 \n“My chronic health issues had doctors stumped. Through constellation work\, I saw how my body was carrying unresolved family trauma. Since working with this awareness\, my symptoms have decreased dramatically for the first time in a decade.” —Elena\, 36 \n“The relationship constellation revealed why my partnerships always followed the same painful pattern. Seeing it mapped out in space was like finally getting the missing piece of a puzzle. I’m now in the healthiest relationship of my life.” —David\, 32 \n“I came as a representative with no expectations and was amazed by what I experienced. Not only did I help someone else’s process\, but I gained profound insights into my own family dynamics just by participating.” —Sarah\, 45 \nJoin our next circle \nDate: Last Saturday of each month\nTime: 10:00 AM – 1:00 PM BST\nLocation: Online\nInvestment: Issue Holder: £55\, Representative: £35 \nWhen registering\, please indicate: \n\nIf you wish to bring an issue or attend as a representative\nIf bringing up an issue\, a brief description of your concern\n\nLimited to 8 participants per session – early registration recommended \nFacilitated by Amel Murphy\, a certified constellation practitioner with over 20 years of experience in group and individual process facilitation \n\n \n 
URL:https://embodied-beings.com/event/finding-solutions-to-persistant-challenges/
LOCATION:Online
CATEGORIES:Circle,constellation
ATTACH;FMTTYPE=image/jpeg:https://embodied-beings.com/wp-content/uploads/2025/03/1fbfc8272849552e6a6cb40afc14.jpeg
ORGANIZER;CN="Amel Murphy":MAILTO:info@embodied-beings.com
END:VEVENT
END:VCALENDAR